BEGIN:VCALENDAR
VERSION:2.0
PRODID:-//RIGHTHERE//CALENDARIZE IT V3.2//EN
BEGIN:VEVENT
UID:101-events@cas.org.nz
DTSTART:20260221T060000Z
DTEND:20260221T110000Z
DTSTAMP:20240420T060021Z
SUMMARY:CAS Members Night (General)
RDATE;VALUE=PERIOD:20200425T000000/20200425T000000,20200523T000000/20200523
 T000000,20200620T000000/20200620T000000,20200725T000000/20200725T000000,20
 200822T000000/20200822T000000,20200919T000000/20200919T000000,20201024T000
 000/20201024T000000,20201121T000000/20201121T000000,20201219T000000/202012
 19T000000,20210220T180000/20210220T000000,20210320T180000/20210320T230000,
 20210424T180000/20210424T230000,20210522T180000/20210522T230000,20210619T1
 80000/20210619T230000,20210724T180000/20210724T230000,20210821T180000/2021
 0821T230000,20210925T180000/20210925T230000,20211023T180000/20211023T23000
 0,20211120T180000/20211120T230000,20220423T180000/20220423T230000,20220521
 T180000/20220521T230000,20220625T180000/20220625T230000,20220723T180000/20
 220723T230000,20220820T180000/20220820T230000,20220924T180000/20220924T230
 000,20221022T180000/20221022T230000,20221119T180000/20221119T230000,202303
 25T180000/20230325T230000,20230422T180000/20230422T230000,20230520T180000/
 20230520T230000,20230624T180000/20230624T230000,20230722T180000/20230722T2
 30000,20230819T180000/20230819T230000,20230923T180000/20230923T230000,2023
 1021T180000/20231021T230000,20231125T180000/20231125T230000,20240420T18000
 0/20240420T230000,20240525T180000/20240525T230000
URL:https://cas.org.nz/events/cas-members-night
ORGANIZER;CN=CAS Webmaster:MAILTO:casweb@cas.org.nz
LOCATION:218 Bells Road Mcleans Island West Melton 7671
END:VEVENT
END:VCALENDAR