BEGIN:VCALENDAR
VERSION:2.0
PRODID:-//RIGHTHERE//CALENDARIZE IT V3.2//EN
BEGIN:VEVENT
UID:5770-events@cas.org.nz
DTSTART:20260418T220000Z
DTEND:20260419T043000Z
DTSTAMP:20250222T014856Z
SUMMARY:Rockets & Runways (formally Yuri’s Night) – Aeronautical Expo 2
 026 at the Air Force Museum of New Zealand
URL:https://cas.org.nz/events/yuris-night-aeronautical-expo-2025-at-the-air
 -force-museum-of-new-zealand
END:VEVENT
END:VCALENDAR